BEGIN:VCALENDAR
VERSION:2.0
PRODID:-//York County SPCA - ECPv6.15.15//NONSGML v1.0//EN
CALSCALE:GREGORIAN
METHOD:PUBLISH
X-WR-CALNAME:York County SPCA
X-ORIGINAL-URL:https://ycspca.org
X-WR-CALDESC:Events for York County SPCA
REFRESH-INTERVAL;VALUE=DURATION:PT1H
X-Robots-Tag:noindex
X-PUBLISHED-TTL:PT1H
BEGIN:VTIMEZONE
TZID:America/New_York
BEGIN:DAYLIGHT
TZOFFSETFROM:-0500
TZOFFSETTO:-0400
TZNAME:EDT
DTSTART:20250309T070000
END:DAYLIGHT
BEGIN:STANDARD
TZOFFSETFROM:-0400
TZOFFSETTO:-0500
TZNAME:EST
DTSTART:20251102T060000
END:STANDARD
BEGIN:DAYLIGHT
TZOFFSETFROM:-0500
TZOFFSETTO:-0400
TZNAME:EDT
DTSTART:20260308T070000
END:DAYLIGHT
BEGIN:STANDARD
TZOFFSETFROM:-0400
TZOFFSETTO:-0500
TZNAME:EST
DTSTART:20261101T060000
END:STANDARD
BEGIN:DAYLIGHT
TZOFFSETFROM:-0500
TZOFFSETTO:-0400
TZNAME:EDT
DTSTART:20270314T070000
END:DAYLIGHT
BEGIN:STANDARD
TZOFFSETFROM:-0400
TZOFFSETTO:-0500
TZNAME:EST
DTSTART:20271107T060000
END:STANDARD
END:VTIMEZONE
BEGIN:VEVENT
DTSTART;TZID=America/New_York:20260814T120000
DTEND;TZID=America/New_York:20260814T160000
DTSTAMP:20260422T190456
CREATED:20250309T204854Z
LAST-MODIFIED:20260407T191651Z
UID:10010116-1786708800-1786723200@ycspca.org
SUMMARY:Public Browsing Hours
DESCRIPTION:Our shelter is open for public browsing hours Tuesday\, Thursday\, Friday from 12 – 4:00 PM and Saturday from 10:00 AM – 2:00 PM. Our shelter is also available by appointment\, Sunday – Saturday\, from 8:00 AM – 4:30 PM.\n\n\nEvery animal at the YCSPCA deserves a loving\, permanent home. From our adventurers to our cuddlers and couch potatoes\, someone is waiting for you at the York County SPCA. Find your perfect companion and change a life forever through adoption.  Meet our adoptable pets! 
URL:https://ycspca.org/event/public-browsing-hours/2026-08-14/
LOCATION:Brougher Companion Animal Shelter – York County SPCA\, 3159 Susquehanna Trail\, York\, PA\, 17406\, United States
CATEGORIES:Shelter
END:VEVENT
END:VCALENDAR