BEGIN:VCALENDAR
VERSION:2.0
PRODID:-//York County SPCA - ECPv6.15.15//NONSGML v1.0//EN
CALSCALE:GREGORIAN
METHOD:PUBLISH
X-WR-CALNAME:York County SPCA
X-ORIGINAL-URL:https://ycspca.org
X-WR-CALDESC:Events for York County SPCA
REFRESH-INTERVAL;VALUE=DURATION:PT1H
X-Robots-Tag:noindex
X-PUBLISHED-TTL:PT1H
BEGIN:VTIMEZONE
TZID:America/New_York
BEGIN:DAYLIGHT
TZOFFSETFROM:-0500
TZOFFSETTO:-0400
TZNAME:EDT
DTSTART:20250309T070000
END:DAYLIGHT
BEGIN:STANDARD
TZOFFSETFROM:-0400
TZOFFSETTO:-0500
TZNAME:EST
DTSTART:20251102T060000
END:STANDARD
BEGIN:DAYLIGHT
TZOFFSETFROM:-0500
TZOFFSETTO:-0400
TZNAME:EDT
DTSTART:20260308T070000
END:DAYLIGHT
BEGIN:STANDARD
TZOFFSETFROM:-0400
TZOFFSETTO:-0500
TZNAME:EST
DTSTART:20261101T060000
END:STANDARD
BEGIN:DAYLIGHT
TZOFFSETFROM:-0500
TZOFFSETTO:-0400
TZNAME:EDT
DTSTART:20270314T070000
END:DAYLIGHT
BEGIN:STANDARD
TZOFFSETFROM:-0400
TZOFFSETTO:-0500
TZNAME:EST
DTSTART:20271107T060000
END:STANDARD
END:VTIMEZONE
BEGIN:VEVENT
DTSTART;TZID=America/New_York:20260423T120000
DTEND;TZID=America/New_York:20260423T160000
DTSTAMP:20260422T095523
CREATED:20250309T204854Z
LAST-MODIFIED:20260407T191651Z
UID:10010083-1776945600-1776960000@ycspca.org
SUMMARY:Public Browsing Hours
DESCRIPTION:Our shelter is open for public browsing hours Tuesday\, Thursday\, Friday from 12 – 4:00 PM and Saturday from 10:00 AM – 2:00 PM. Our shelter is also available by appointment\, Sunday – Saturday\, from 8:00 AM – 4:30 PM.\n\n\nEvery animal at the YCSPCA deserves a loving\, permanent home. From our adventurers to our cuddlers and couch potatoes\, someone is waiting for you at the York County SPCA. Find your perfect companion and change a life forever through adoption.  Meet our adoptable pets! 
URL:https://ycspca.org/event/public-browsing-hours/2026-04-23/
LOCATION:Brougher Companion Animal Shelter – York County SPCA\, 3159 Susquehanna Trail\, York\, PA\, 17406\, United States
CATEGORIES:Shelter
END:VEVENT
BEGIN:VEVENT
DTSTART;TZID=America/New_York:20260424T120000
DTEND;TZID=America/New_York:20260424T160000
DTSTAMP:20260422T095523
CREATED:20250309T204854Z
LAST-MODIFIED:20260407T191651Z
UID:10010084-1777032000-1777046400@ycspca.org
SUMMARY:Public Browsing Hours
DESCRIPTION:Our shelter is open for public browsing hours Tuesday\, Thursday\, Friday from 12 – 4:00 PM and Saturday from 10:00 AM – 2:00 PM. Our shelter is also available by appointment\, Sunday – Saturday\, from 8:00 AM – 4:30 PM.\n\n\nEvery animal at the YCSPCA deserves a loving\, permanent home. From our adventurers to our cuddlers and couch potatoes\, someone is waiting for you at the York County SPCA. Find your perfect companion and change a life forever through adoption.  Meet our adoptable pets! 
URL:https://ycspca.org/event/public-browsing-hours/2026-04-24/
LOCATION:Brougher Companion Animal Shelter – York County SPCA\, 3159 Susquehanna Trail\, York\, PA\, 17406\, United States
CATEGORIES:Shelter
END:VEVENT
BEGIN:VEVENT
DTSTART;TZID=America/New_York:20260425T100000
DTEND;TZID=America/New_York:20260425T140000
DTSTAMP:20260422T095523
CREATED:20251117T150212Z
LAST-MODIFIED:20260304T143830Z
UID:10009393-1777111200-1777125600@ycspca.org
SUMMARY:Public Browsing Hours (Sat)
DESCRIPTION:Our shelter is open for public browsing hours Tuesday\, Thursday anf Friday from 12 – 4PM and Saturday from 10:00 AM – 2:00 PM. Our shelter is also available by appointment\, Sunday – Saturday\, from 8:00 AM – 4:30 PM.\n\n\nEvery animal at the YCSPCA deserves a loving\, permanent home. From our adventurers to our cuddlers and couch potatoes\, someone is waiting for you at the York County SPCA. Find your perfect companion and change a life forever through adoption.  Meet our adoptable pets! 
URL:https://ycspca.org/event/public-browsing-hours-2/2026-04-25/
LOCATION:Brougher Companion Animal Shelter – York County SPCA\, 3159 Susquehanna Trail\, York\, PA\, 17406\, United States
CATEGORIES:Shelter
END:VEVENT
BEGIN:VEVENT
DTSTART;TZID=America/New_York:20260425T110000
DTEND;TZID=America/New_York:20260425T130000
DTSTAMP:20260422T095523
CREATED:20260311T171214Z
LAST-MODIFIED:20260311T171355Z
UID:10010621-1777114800-1777122000@ycspca.org
SUMMARY:Volunteer Community Open House
DESCRIPTION:Volunteer Community Open House \nInterested in volunteering with the York County SPCA? Join us for our upcoming Volunteer Community Open House and learn how you can make a difference for animals in need. \nDuring this open house\, you’ll have the opportunity to meet current volunteers\, learn about the different volunteer roles available\, and ask questions about how you can get involved. From helping care for animals to supporting events and community programs\, there are many ways to lend a helping hand. \nWhether you’re looking to volunteer regularly or just want to learn more about the opportunities available\, we’d love to meet you. \nDate: Saturday\, April 25Time: 11:00am – 1:00pmLocation: York County SPCA \nNo registration is required — just stop by and meet us! 🐾
URL:https://ycspca.org/event/april-volunteer-open-house/
LOCATION:Brougher Companion Animal Shelter – York County SPCA\, 3159 Susquehanna Trail\, York\, PA\, 17406\, United States
CATEGORIES:Shelter
END:VEVENT
BEGIN:VEVENT
DTSTART;TZID=America/New_York:20260428T120000
DTEND;TZID=America/New_York:20260428T160000
DTSTAMP:20260422T095523
CREATED:20250309T204854Z
LAST-MODIFIED:20260407T191651Z
UID:10009808-1777377600-1777392000@ycspca.org
SUMMARY:Public Browsing Hours
DESCRIPTION:Our shelter is open for public browsing hours Tuesday\, Thursday\, Friday from 12 – 4:00 PM and Saturday from 10:00 AM – 2:00 PM. Our shelter is also available by appointment\, Sunday – Saturday\, from 8:00 AM – 4:30 PM.\n\n\nEvery animal at the YCSPCA deserves a loving\, permanent home. From our adventurers to our cuddlers and couch potatoes\, someone is waiting for you at the York County SPCA. Find your perfect companion and change a life forever through adoption.  Meet our adoptable pets! 
URL:https://ycspca.org/event/public-browsing-hours/2026-04-28/
LOCATION:Brougher Companion Animal Shelter – York County SPCA\, 3159 Susquehanna Trail\, York\, PA\, 17406\, United States
CATEGORIES:Shelter
END:VEVENT
BEGIN:VEVENT
DTSTART;TZID=America/New_York:20260430T080000
DTEND;TZID=America/New_York:20260430T170000
DTSTAMP:20260422T095523
CREATED:20260106T172831Z
LAST-MODIFIED:20260213T182851Z
UID:10009752-1777536000-1777568400@ycspca.org
SUMMARY:Spay/Neuter Clinic Closure
DESCRIPTION:
URL:https://ycspca.org/event/spay-neuter-clinic-closure/2026-04-30/
LOCATION:Brougher Companion Animal Shelter – York County SPCA\, 3159 Susquehanna Trail\, York\, PA\, 17406\, United States
END:VEVENT
BEGIN:VEVENT
DTSTART;TZID=America/New_York:20260430T120000
DTEND;TZID=America/New_York:20260430T160000
DTSTAMP:20260422T095523
CREATED:20250309T204854Z
LAST-MODIFIED:20260407T191651Z
UID:10010085-1777550400-1777564800@ycspca.org
SUMMARY:Public Browsing Hours
DESCRIPTION:Our shelter is open for public browsing hours Tuesday\, Thursday\, Friday from 12 – 4:00 PM and Saturday from 10:00 AM – 2:00 PM. Our shelter is also available by appointment\, Sunday – Saturday\, from 8:00 AM – 4:30 PM.\n\n\nEvery animal at the YCSPCA deserves a loving\, permanent home. From our adventurers to our cuddlers and couch potatoes\, someone is waiting for you at the York County SPCA. Find your perfect companion and change a life forever through adoption.  Meet our adoptable pets! 
URL:https://ycspca.org/event/public-browsing-hours/2026-04-30/
LOCATION:Brougher Companion Animal Shelter – York County SPCA\, 3159 Susquehanna Trail\, York\, PA\, 17406\, United States
CATEGORIES:Shelter
END:VEVENT
BEGIN:VEVENT
DTSTART;TZID=America/New_York:20260501T080000
DTEND;TZID=America/New_York:20260501T170000
DTSTAMP:20260422T095523
CREATED:20260106T172831Z
LAST-MODIFIED:20260213T182851Z
UID:10009753-1777622400-1777654800@ycspca.org
SUMMARY:Spay/Neuter Clinic Closure
DESCRIPTION:
URL:https://ycspca.org/event/spay-neuter-clinic-closure/2026-05-01/
LOCATION:Brougher Companion Animal Shelter – York County SPCA\, 3159 Susquehanna Trail\, York\, PA\, 17406\, United States
END:VEVENT
BEGIN:VEVENT
DTSTART;TZID=America/New_York:20260501T120000
DTEND;TZID=America/New_York:20260501T160000
DTSTAMP:20260422T095523
CREATED:20250309T204854Z
LAST-MODIFIED:20260407T191651Z
UID:10010086-1777636800-1777651200@ycspca.org
SUMMARY:Public Browsing Hours
DESCRIPTION:Our shelter is open for public browsing hours Tuesday\, Thursday\, Friday from 12 – 4:00 PM and Saturday from 10:00 AM – 2:00 PM. Our shelter is also available by appointment\, Sunday – Saturday\, from 8:00 AM – 4:30 PM.\n\n\nEvery animal at the YCSPCA deserves a loving\, permanent home. From our adventurers to our cuddlers and couch potatoes\, someone is waiting for you at the York County SPCA. Find your perfect companion and change a life forever through adoption.  Meet our adoptable pets! 
URL:https://ycspca.org/event/public-browsing-hours/2026-05-01/
LOCATION:Brougher Companion Animal Shelter – York County SPCA\, 3159 Susquehanna Trail\, York\, PA\, 17406\, United States
CATEGORIES:Shelter
END:VEVENT
BEGIN:VEVENT
DTSTART;TZID=America/New_York:20260501T170000
DTEND;TZID=America/New_York:20260501T200000
DTSTAMP:20260422T095523
CREATED:20260318T185637Z
LAST-MODIFIED:20260318T185835Z
UID:10010627-1777654800-1777665600@ycspca.org
SUMMARY:Give Local York Paw-ty
DESCRIPTION:Join us at the York County SPCA for our Give Day Open House\, a community PAW-ty in celebration of Give Local York! This family-friendly event is the perfect way to come together\, have fun\, and support a lifesaving mission. \nGive Local York (April 30th-May 1st) is a 24-hour online giving event hosted by the White Rose Leadership Institute that brings our community together to support local nonprofits. Over the past eight years\, thousands of donors have helped raise millions of dollars for organizations making a difference right here in York County. In 2025 alone\, nearly 13\,000 donors contributed an incredible $5.58 million in just one day. \nEnjoy an evening filled with food trucks\, local vendors\, kids activities\, and interactive experiences for all ages. From face painting and a small animal petting zoo to our adopt-a-plushie station\, there’s something for everyone to enjoy. You’ll even have the chance to meet some of our adoptable dogs as special guests during the event. \nAs we celebrate together\, we’ll also be watching the Give Local York donation countdown and highlighting the impact your support makes for animals in our community. Every donation helps provide care\, shelter\, and second chances for pets in need. \nBring your friends and family\, grab something delicious to eat\, and join us for an evening of fun\, connection\, and compassion. We can’t wait to PAW-ty with you! 🐾💙 \nFor more info about Give Local York or to visit  our fundraising: https://www.givelocalyork.org/organization/york-county-spca
URL:https://ycspca.org/event/give-local-york-paw-ty/
LOCATION:Brougher Companion Animal Shelter – York County SPCA\, 3159 Susquehanna Trail\, York\, PA\, 17406\, United States
ATTACH;FMTTYPE=image/png:https://ycspca.org/wp-content/uploads/2026/03/STORY-2026-GLY-PAW-ty.png
END:VEVENT
BEGIN:VEVENT
DTSTART;TZID=America/New_York:20260502T100000
DTEND;TZID=America/New_York:20260502T140000
DTSTAMP:20260422T095523
CREATED:20251117T150212Z
LAST-MODIFIED:20260304T143830Z
UID:10009394-1777716000-1777730400@ycspca.org
SUMMARY:Public Browsing Hours (Sat)
DESCRIPTION:Our shelter is open for public browsing hours Tuesday\, Thursday anf Friday from 12 – 4PM and Saturday from 10:00 AM – 2:00 PM. Our shelter is also available by appointment\, Sunday – Saturday\, from 8:00 AM – 4:30 PM.\n\n\nEvery animal at the YCSPCA deserves a loving\, permanent home. From our adventurers to our cuddlers and couch potatoes\, someone is waiting for you at the York County SPCA. Find your perfect companion and change a life forever through adoption.  Meet our adoptable pets! 
URL:https://ycspca.org/event/public-browsing-hours-2/2026-05-02/
LOCATION:Brougher Companion Animal Shelter – York County SPCA\, 3159 Susquehanna Trail\, York\, PA\, 17406\, United States
CATEGORIES:Shelter
END:VEVENT
BEGIN:VEVENT
DTSTART;TZID=America/New_York:20260503T090000
DTEND;TZID=America/New_York:20260503T160000
DTSTAMP:20260422T095523
CREATED:20250416T152952Z
LAST-MODIFIED:20250416T153023Z
UID:10007602-1777798800-1777824000@ycspca.org
SUMMARY:Dogs' Day Out Presented by Explore York
DESCRIPTION:Join us for the York County SPCA Dogs’ Day Out Presented by Explore York – the first Sunday of every month!  More details are available here: Adventure Awaits With Our Dogs’ Day Out | York County SPCA\nHow to Sign Up:\nWe post details about each event on our Facebook page several days before. The events fill up quickly\, so please follow up and/or opt to get alerts when we post! \n\nComplete an application!\nOnce you’ve submitted your application\, our canine team will reach out in a few days to confirm your approval and match you with a dog!\nIF you have a specific dog in mind\, please note that on your application. If that pup is already matched\, we’ll help you pick another deserving dog for your outing. Dogs are available on a first-come\, first-served basis and are subject to change (i.e.\, a dog gets sick\, behavior changes\, etc.).\n\n\nWhat Is Dogs’ Day Out?\nThis program lets community members take one of our adoptable dogs out of the shelter for a day filled with fun and exploration! \nYou can: \n\nTake them for a hike or a park stroll.\nTreat them to a pup cup at a drive-thru.\nVisit a dog-friendly store for a shopping spree.\nCreate your own adventure—the possibilities are endless.\n\nRequirements:\n\nA reliable vehicle where the dog can be safely restrained or crated for transport.\nA valid driver’s license to be copied at the shelter.\nParticipants must arrive at 9:00 a.m. at the Brougher Companion Animal Shelter – York County SPCA\, 3159 N. Susquehanna Trail\, York\, PA 17406.\nBasic safety and handling instructions will be provided before you leave.\n\nImportant Details:\n\nParticipants will lap around our facility with their assigned dog to ensure comfort and handling.\nDogs must be returned to the shelter by 4:00 p.m.\nAfter the event\, please complete a “Dogs’ Day Out” report card to share how your dog enjoyed their adventure. Access the report card here. https://form.jotform.com/240396203250043\nLet’s make this year one filled with happy tails and new beginnings!
URL:https://ycspca.org/event/dogs-day-out-presented-by-explore-york/2026-05-03/
LOCATION:Brougher Companion Animal Shelter – York County SPCA\, 3159 Susquehanna Trail\, York\, PA\, 17406\, United States
CATEGORIES:Dogs' Day Out,Shelter,Special Event
END:VEVENT
BEGIN:VEVENT
DTSTART;TZID=America/New_York:20260505T120000
DTEND;TZID=America/New_York:20260505T160000
DTSTAMP:20260422T095523
CREATED:20250309T204854Z
LAST-MODIFIED:20260407T191651Z
UID:10009809-1777982400-1777996800@ycspca.org
SUMMARY:Public Browsing Hours
DESCRIPTION:Our shelter is open for public browsing hours Tuesday\, Thursday\, Friday from 12 – 4:00 PM and Saturday from 10:00 AM – 2:00 PM. Our shelter is also available by appointment\, Sunday – Saturday\, from 8:00 AM – 4:30 PM.\n\n\nEvery animal at the YCSPCA deserves a loving\, permanent home. From our adventurers to our cuddlers and couch potatoes\, someone is waiting for you at the York County SPCA. Find your perfect companion and change a life forever through adoption.  Meet our adoptable pets! 
URL:https://ycspca.org/event/public-browsing-hours/2026-05-05/
LOCATION:Brougher Companion Animal Shelter – York County SPCA\, 3159 Susquehanna Trail\, York\, PA\, 17406\, United States
CATEGORIES:Shelter
END:VEVENT
BEGIN:VEVENT
DTSTART;TZID=America/New_York:20260507T120000
DTEND;TZID=America/New_York:20260507T160000
DTSTAMP:20260422T095523
CREATED:20250309T204854Z
LAST-MODIFIED:20260407T191651Z
UID:10010087-1778155200-1778169600@ycspca.org
SUMMARY:Public Browsing Hours
DESCRIPTION:Our shelter is open for public browsing hours Tuesday\, Thursday\, Friday from 12 – 4:00 PM and Saturday from 10:00 AM – 2:00 PM. Our shelter is also available by appointment\, Sunday – Saturday\, from 8:00 AM – 4:30 PM.\n\n\nEvery animal at the YCSPCA deserves a loving\, permanent home. From our adventurers to our cuddlers and couch potatoes\, someone is waiting for you at the York County SPCA. Find your perfect companion and change a life forever through adoption.  Meet our adoptable pets! 
URL:https://ycspca.org/event/public-browsing-hours/2026-05-07/
LOCATION:Brougher Companion Animal Shelter – York County SPCA\, 3159 Susquehanna Trail\, York\, PA\, 17406\, United States
CATEGORIES:Shelter
END:VEVENT
BEGIN:VEVENT
DTSTART;TZID=America/New_York:20260508T080000
DTEND;TZID=America/New_York:20260508T170000
DTSTAMP:20260422T095523
CREATED:20260106T172831Z
LAST-MODIFIED:20260213T182851Z
UID:10009754-1778227200-1778259600@ycspca.org
SUMMARY:Spay/Neuter Clinic Closure
DESCRIPTION:
URL:https://ycspca.org/event/spay-neuter-clinic-closure/2026-05-08/
LOCATION:Brougher Companion Animal Shelter – York County SPCA\, 3159 Susquehanna Trail\, York\, PA\, 17406\, United States
END:VEVENT
BEGIN:VEVENT
DTSTART;TZID=America/New_York:20260508T120000
DTEND;TZID=America/New_York:20260508T160000
DTSTAMP:20260422T095523
CREATED:20250309T204854Z
LAST-MODIFIED:20260407T191651Z
UID:10010088-1778241600-1778256000@ycspca.org
SUMMARY:Public Browsing Hours
DESCRIPTION:Our shelter is open for public browsing hours Tuesday\, Thursday\, Friday from 12 – 4:00 PM and Saturday from 10:00 AM – 2:00 PM. Our shelter is also available by appointment\, Sunday – Saturday\, from 8:00 AM – 4:30 PM.\n\n\nEvery animal at the YCSPCA deserves a loving\, permanent home. From our adventurers to our cuddlers and couch potatoes\, someone is waiting for you at the York County SPCA. Find your perfect companion and change a life forever through adoption.  Meet our adoptable pets! 
URL:https://ycspca.org/event/public-browsing-hours/2026-05-08/
LOCATION:Brougher Companion Animal Shelter – York County SPCA\, 3159 Susquehanna Trail\, York\, PA\, 17406\, United States
CATEGORIES:Shelter
END:VEVENT
BEGIN:VEVENT
DTSTART;TZID=America/New_York:20260509T100000
DTEND;TZID=America/New_York:20260509T140000
DTSTAMP:20260422T095523
CREATED:20251117T150212Z
LAST-MODIFIED:20260304T143830Z
UID:10009395-1778320800-1778335200@ycspca.org
SUMMARY:Public Browsing Hours (Sat)
DESCRIPTION:Our shelter is open for public browsing hours Tuesday\, Thursday anf Friday from 12 – 4PM and Saturday from 10:00 AM – 2:00 PM. Our shelter is also available by appointment\, Sunday – Saturday\, from 8:00 AM – 4:30 PM.\n\n\nEvery animal at the YCSPCA deserves a loving\, permanent home. From our adventurers to our cuddlers and couch potatoes\, someone is waiting for you at the York County SPCA. Find your perfect companion and change a life forever through adoption.  Meet our adoptable pets! 
URL:https://ycspca.org/event/public-browsing-hours-2/2026-05-09/
LOCATION:Brougher Companion Animal Shelter – York County SPCA\, 3159 Susquehanna Trail\, York\, PA\, 17406\, United States
CATEGORIES:Shelter
END:VEVENT
BEGIN:VEVENT
DTSTART;TZID=America/New_York:20260511T080000
DTEND;TZID=America/New_York:20260511T170000
DTSTAMP:20260422T095523
CREATED:20260106T172831Z
LAST-MODIFIED:20260213T182851Z
UID:10009755-1778486400-1778518800@ycspca.org
SUMMARY:Spay/Neuter Clinic Closure
DESCRIPTION:
URL:https://ycspca.org/event/spay-neuter-clinic-closure/2026-05-11/
LOCATION:Brougher Companion Animal Shelter – York County SPCA\, 3159 Susquehanna Trail\, York\, PA\, 17406\, United States
END:VEVENT
BEGIN:VEVENT
DTSTART;TZID=America/New_York:20260512T120000
DTEND;TZID=America/New_York:20260512T160000
DTSTAMP:20260422T095523
CREATED:20250309T204854Z
LAST-MODIFIED:20260407T191651Z
UID:10009810-1778587200-1778601600@ycspca.org
SUMMARY:Public Browsing Hours
DESCRIPTION:Our shelter is open for public browsing hours Tuesday\, Thursday\, Friday from 12 – 4:00 PM and Saturday from 10:00 AM – 2:00 PM. Our shelter is also available by appointment\, Sunday – Saturday\, from 8:00 AM – 4:30 PM.\n\n\nEvery animal at the YCSPCA deserves a loving\, permanent home. From our adventurers to our cuddlers and couch potatoes\, someone is waiting for you at the York County SPCA. Find your perfect companion and change a life forever through adoption.  Meet our adoptable pets! 
URL:https://ycspca.org/event/public-browsing-hours/2026-05-12/
LOCATION:Brougher Companion Animal Shelter – York County SPCA\, 3159 Susquehanna Trail\, York\, PA\, 17406\, United States
CATEGORIES:Shelter
END:VEVENT
BEGIN:VEVENT
DTSTART;TZID=America/New_York:20260513T080000
DTEND;TZID=America/New_York:20260513T170000
DTSTAMP:20260422T095523
CREATED:20260106T172831Z
LAST-MODIFIED:20260213T182851Z
UID:10009756-1778659200-1778691600@ycspca.org
SUMMARY:Spay/Neuter Clinic Closure
DESCRIPTION:
URL:https://ycspca.org/event/spay-neuter-clinic-closure/2026-05-13/
LOCATION:Brougher Companion Animal Shelter – York County SPCA\, 3159 Susquehanna Trail\, York\, PA\, 17406\, United States
END:VEVENT
BEGIN:VEVENT
DTSTART;TZID=America/New_York:20260514T120000
DTEND;TZID=America/New_York:20260514T160000
DTSTAMP:20260422T095523
CREATED:20250309T204854Z
LAST-MODIFIED:20260407T191651Z
UID:10010089-1778760000-1778774400@ycspca.org
SUMMARY:Public Browsing Hours
DESCRIPTION:Our shelter is open for public browsing hours Tuesday\, Thursday\, Friday from 12 – 4:00 PM and Saturday from 10:00 AM – 2:00 PM. Our shelter is also available by appointment\, Sunday – Saturday\, from 8:00 AM – 4:30 PM.\n\n\nEvery animal at the YCSPCA deserves a loving\, permanent home. From our adventurers to our cuddlers and couch potatoes\, someone is waiting for you at the York County SPCA. Find your perfect companion and change a life forever through adoption.  Meet our adoptable pets! 
URL:https://ycspca.org/event/public-browsing-hours/2026-05-14/
LOCATION:Brougher Companion Animal Shelter – York County SPCA\, 3159 Susquehanna Trail\, York\, PA\, 17406\, United States
CATEGORIES:Shelter
END:VEVENT
BEGIN:VEVENT
DTSTART;TZID=America/New_York:20260515T080000
DTEND;TZID=America/New_York:20260515T170000
DTSTAMP:20260422T095523
CREATED:20260106T172831Z
LAST-MODIFIED:20260213T182851Z
UID:10009757-1778832000-1778864400@ycspca.org
SUMMARY:Spay/Neuter Clinic Closure
DESCRIPTION:
URL:https://ycspca.org/event/spay-neuter-clinic-closure/2026-05-15/
LOCATION:Brougher Companion Animal Shelter – York County SPCA\, 3159 Susquehanna Trail\, York\, PA\, 17406\, United States
END:VEVENT
BEGIN:VEVENT
DTSTART;TZID=America/New_York:20260515T120000
DTEND;TZID=America/New_York:20260515T160000
DTSTAMP:20260422T095523
CREATED:20250309T204854Z
LAST-MODIFIED:20260407T191651Z
UID:10010090-1778846400-1778860800@ycspca.org
SUMMARY:Public Browsing Hours
DESCRIPTION:Our shelter is open for public browsing hours Tuesday\, Thursday\, Friday from 12 – 4:00 PM and Saturday from 10:00 AM – 2:00 PM. Our shelter is also available by appointment\, Sunday – Saturday\, from 8:00 AM – 4:30 PM.\n\n\nEvery animal at the YCSPCA deserves a loving\, permanent home. From our adventurers to our cuddlers and couch potatoes\, someone is waiting for you at the York County SPCA. Find your perfect companion and change a life forever through adoption.  Meet our adoptable pets! 
URL:https://ycspca.org/event/public-browsing-hours/2026-05-15/
LOCATION:Brougher Companion Animal Shelter – York County SPCA\, 3159 Susquehanna Trail\, York\, PA\, 17406\, United States
CATEGORIES:Shelter
END:VEVENT
BEGIN:VEVENT
DTSTART;TZID=America/New_York:20260516T100000
DTEND;TZID=America/New_York:20260516T140000
DTSTAMP:20260422T095523
CREATED:20251117T150212Z
LAST-MODIFIED:20260304T143830Z
UID:10009396-1778925600-1778940000@ycspca.org
SUMMARY:Public Browsing Hours (Sat)
DESCRIPTION:Our shelter is open for public browsing hours Tuesday\, Thursday anf Friday from 12 – 4PM and Saturday from 10:00 AM – 2:00 PM. Our shelter is also available by appointment\, Sunday – Saturday\, from 8:00 AM – 4:30 PM.\n\n\nEvery animal at the YCSPCA deserves a loving\, permanent home. From our adventurers to our cuddlers and couch potatoes\, someone is waiting for you at the York County SPCA. Find your perfect companion and change a life forever through adoption.  Meet our adoptable pets! 
URL:https://ycspca.org/event/public-browsing-hours-2/2026-05-16/
LOCATION:Brougher Companion Animal Shelter – York County SPCA\, 3159 Susquehanna Trail\, York\, PA\, 17406\, United States
CATEGORIES:Shelter
END:VEVENT
BEGIN:VEVENT
DTSTART;TZID=America/New_York:20260518T080000
DTEND;TZID=America/New_York:20260518T170000
DTSTAMP:20260422T095523
CREATED:20260106T172831Z
LAST-MODIFIED:20260213T182851Z
UID:10009758-1779091200-1779123600@ycspca.org
SUMMARY:Spay/Neuter Clinic Closure
DESCRIPTION:
URL:https://ycspca.org/event/spay-neuter-clinic-closure/2026-05-18/
LOCATION:Brougher Companion Animal Shelter – York County SPCA\, 3159 Susquehanna Trail\, York\, PA\, 17406\, United States
END:VEVENT
BEGIN:VEVENT
DTSTART;TZID=America/New_York:20260519T120000
DTEND;TZID=America/New_York:20260519T160000
DTSTAMP:20260422T095523
CREATED:20250309T204854Z
LAST-MODIFIED:20260407T191651Z
UID:10009811-1779192000-1779206400@ycspca.org
SUMMARY:Public Browsing Hours
DESCRIPTION:Our shelter is open for public browsing hours Tuesday\, Thursday\, Friday from 12 – 4:00 PM and Saturday from 10:00 AM – 2:00 PM. Our shelter is also available by appointment\, Sunday – Saturday\, from 8:00 AM – 4:30 PM.\n\n\nEvery animal at the YCSPCA deserves a loving\, permanent home. From our adventurers to our cuddlers and couch potatoes\, someone is waiting for you at the York County SPCA. Find your perfect companion and change a life forever through adoption.  Meet our adoptable pets! 
URL:https://ycspca.org/event/public-browsing-hours/2026-05-19/
LOCATION:Brougher Companion Animal Shelter – York County SPCA\, 3159 Susquehanna Trail\, York\, PA\, 17406\, United States
CATEGORIES:Shelter
END:VEVENT
BEGIN:VEVENT
DTSTART;TZID=America/New_York:20260520T080000
DTEND;TZID=America/New_York:20260520T170000
DTSTAMP:20260422T095523
CREATED:20260106T172831Z
LAST-MODIFIED:20260213T182851Z
UID:10009759-1779264000-1779296400@ycspca.org
SUMMARY:Spay/Neuter Clinic Closure
DESCRIPTION:
URL:https://ycspca.org/event/spay-neuter-clinic-closure/2026-05-20/
LOCATION:Brougher Companion Animal Shelter – York County SPCA\, 3159 Susquehanna Trail\, York\, PA\, 17406\, United States
END:VEVENT
BEGIN:VEVENT
DTSTART;TZID=America/New_York:20260521T120000
DTEND;TZID=America/New_York:20260521T160000
DTSTAMP:20260422T095523
CREATED:20250309T204854Z
LAST-MODIFIED:20260407T191651Z
UID:10010091-1779364800-1779379200@ycspca.org
SUMMARY:Public Browsing Hours
DESCRIPTION:Our shelter is open for public browsing hours Tuesday\, Thursday\, Friday from 12 – 4:00 PM and Saturday from 10:00 AM – 2:00 PM. Our shelter is also available by appointment\, Sunday – Saturday\, from 8:00 AM – 4:30 PM.\n\n\nEvery animal at the YCSPCA deserves a loving\, permanent home. From our adventurers to our cuddlers and couch potatoes\, someone is waiting for you at the York County SPCA. Find your perfect companion and change a life forever through adoption.  Meet our adoptable pets! 
URL:https://ycspca.org/event/public-browsing-hours/2026-05-21/
LOCATION:Brougher Companion Animal Shelter – York County SPCA\, 3159 Susquehanna Trail\, York\, PA\, 17406\, United States
CATEGORIES:Shelter
END:VEVENT
BEGIN:VEVENT
DTSTART;TZID=America/New_York:20260522T080000
DTEND;TZID=America/New_York:20260522T170000
DTSTAMP:20260422T095523
CREATED:20260106T172831Z
LAST-MODIFIED:20260213T182851Z
UID:10009760-1779436800-1779469200@ycspca.org
SUMMARY:Spay/Neuter Clinic Closure
DESCRIPTION:
URL:https://ycspca.org/event/spay-neuter-clinic-closure/2026-05-22/
LOCATION:Brougher Companion Animal Shelter – York County SPCA\, 3159 Susquehanna Trail\, York\, PA\, 17406\, United States
END:VEVENT
BEGIN:VEVENT
DTSTART;TZID=America/New_York:20260522T120000
DTEND;TZID=America/New_York:20260522T160000
DTSTAMP:20260422T095523
CREATED:20250309T204854Z
LAST-MODIFIED:20260407T191651Z
UID:10010092-1779451200-1779465600@ycspca.org
SUMMARY:Public Browsing Hours
DESCRIPTION:Our shelter is open for public browsing hours Tuesday\, Thursday\, Friday from 12 – 4:00 PM and Saturday from 10:00 AM – 2:00 PM. Our shelter is also available by appointment\, Sunday – Saturday\, from 8:00 AM – 4:30 PM.\n\n\nEvery animal at the YCSPCA deserves a loving\, permanent home. From our adventurers to our cuddlers and couch potatoes\, someone is waiting for you at the York County SPCA. Find your perfect companion and change a life forever through adoption.  Meet our adoptable pets! 
URL:https://ycspca.org/event/public-browsing-hours/2026-05-22/
LOCATION:Brougher Companion Animal Shelter – York County SPCA\, 3159 Susquehanna Trail\, York\, PA\, 17406\, United States
CATEGORIES:Shelter
END:VEVENT
END:VCALENDAR